BEGIN:VCALENDAR
VERSION:2.0
PRODID:-//bonasoft.pl//NONSGML Hejt i przemoc “na niby” ranią naprawdę – webinar biblioterapeutyczny dla nauczycieli na bazie publikacji Wydawnictwa NoBell//EN
CALSCALE:GREGORIAN
METHOD:PUBLISH
BEGIN:VEVENT
UID:20260421T134000-2100381226uid
DISTAMP:20260421T134000
DTSTART:20250508T090000Z
DTEND:20250508T110000Z
LOCATION:online
SUMMARY:Hejt i przemoc “na niby” ranią naprawdę – webinar biblioterapeutyczny dla nauczycieli na bazie publikacji Wydawnictwa NoBell
DESCRIPTION:
END:VEVENT
END:VCALENDAR
