BEGIN:VCALENDAR
VERSION:2.0
PRODID:-//bonasoft.pl//NONSGML Jak książki mogą wzmacniać poczucie własnej wartości – o biblioterapeutycznej mocy czytania//EN
CALSCALE:GREGORIAN
METHOD:PUBLISH
BEGIN:VEVENT
UID:20260421T133548-281299627uid
DISTAMP:20260421T133548
DTSTART:20250520T080000Z
DTEND:20250520T120000Z
LOCATION:Pedagogiczna Biblioteka Wojewódzka im. KEN w Warszawie, ul. Gocławska 4, sala konferencyjna nr 320, II p.
SUMMARY:Jak książki mogą wzmacniać poczucie własnej wartości – o biblioterapeutycznej mocy czytania
DESCRIPTION:
END:VEVENT
END:VCALENDAR
