BEGIN:VCALENDAR
VERSION:2.0
PRODID:-//bonasoft.pl//NONSGML Opowiem ci bajkę – jak tworzyć opowieści dla dzieci//EN
CALSCALE:GREGORIAN
METHOD:PUBLISH
BEGIN:VEVENT
UID:20260421T133039-284374605uid
DISTAMP:20260421T133039
DTSTART:20250522T070000Z
DTEND:20250522T100000Z
LOCATION:Pedagogiczna Biblioteka Wojewódzka im. KEN w Warszawie, ul. Gocławska 4, sala konferencyjna nr 320, II p.
SUMMARY:Opowiem ci bajkę – jak tworzyć opowieści dla dzieci
DESCRIPTION:
END:VEVENT
END:VCALENDAR
