BEGIN:VCALENDAR
VERSION:2.0
PRODID:-//bonasoft.pl//NONSGML [ODWOŁANE] Opowiem ci bajkę – jak tworzyć opowieści dla dzieci//EN
CALSCALE:GREGORIAN
METHOD:PUBLISH
BEGIN:VEVENT
UID:20260421T121241-373131834uid
DISTAMP:20260421T121241
DTSTART:20251002T070000Z
DTEND:20251002T100000Z
LOCATION:Pedagogiczna Biblioteka Wojewódzka im. KEN w Warszawie, ul. Gocławska 4, sala konferencyjna, II p.
SUMMARY:[ODWOŁANE] Opowiem ci bajkę – jak tworzyć opowieści dla dzieci
DESCRIPTION:
END:VEVENT
END:VCALENDAR
