BEGIN:VCALENDAR
VERSION:2.0
PRODID:-//bonasoft.pl//NONSGML Bibliotekarz szuka pomysłu//EN
CALSCALE:GREGORIAN
METHOD:PUBLISH
BEGIN:VEVENT
UID:20260421T120950-80277953uid
DISTAMP:20260421T120950
DTSTART:20251009T080000Z
DTEND:20251009T120000Z
LOCATION:Pedagogiczna Biblioteka Wojewódzka im. KEN w Warszawie, ul. Gocławska 4, sala konferencyjna, II p.
SUMMARY:Bibliotekarz szuka pomysłu
DESCRIPTION:
END:VEVENT
END:VCALENDAR
