BEGIN:VCALENDAR
VERSION:2.0
PRODID:-//bonasoft.pl//NONSGML LearningApps krok po kroku – webinar dla wszystkich zainteresowanych nauczycieli//EN
CALSCALE:GREGORIAN
METHOD:PUBLISH
BEGIN:VEVENT
UID:20260421T121420-167427586uid
DISTAMP:20260421T121420
DTSTART:20251010T080000Z
DTEND:20251010T093000Z
LOCATION:online
SUMMARY:LearningApps krok po kroku – webinar dla wszystkich zainteresowanych nauczycieli
DESCRIPTION:
END:VEVENT
END:VCALENDAR
