BEGIN:VCALENDAR
VERSION:2.0
PRODID:-//bonasoft.pl//NONSGML Cyfrowa biblioteka – narzędzia, które warto znać – webinar//EN
CALSCALE:GREGORIAN
METHOD:PUBLISH
BEGIN:VEVENT
UID:20260421T134906-1456770736uid
DISTAMP:20260421T134906
DTSTART:20251016T100000Z
DTEND:20251016T113000Z
LOCATION:online
SUMMARY:Cyfrowa biblioteka – narzędzia, które warto znać – webinar
DESCRIPTION:
END:VEVENT
END:VCALENDAR
