BEGIN:VCALENDAR
VERSION:2.0
PRODID:-//bonasoft.pl//NONSGML Zintegrowane systemy biblioteczne skutecznym sposobem na dotarcie do informacji naukowej – webinar//EN
CALSCALE:GREGORIAN
METHOD:PUBLISH
BEGIN:VEVENT
UID:20260421T134257-1865100326uid
DISTAMP:20260421T134257
DTSTART:20251021T080000Z
DTEND:20251021T110000Z
LOCATION:online
SUMMARY:Zintegrowane systemy biblioteczne skutecznym sposobem na dotarcie do informacji naukowej – webinar
DESCRIPTION:
END:VEVENT
END:VCALENDAR
