BEGIN:VCALENDAR
VERSION:2.0
PRODID:-//bonasoft.pl//NONSGML Książki graficzne pierwszym krokiem do samodzielnego czytania//EN
CALSCALE:GREGORIAN
METHOD:PUBLISH
BEGIN:VEVENT
UID:20260421T134748-1118028349uid
DISTAMP:20260421T134748
DTSTART:20251022T080000Z
DTEND:20251022T120000Z
LOCATION:Pedagogiczna Biblioteka Wojewódzka im. KEN w Warszawie, ul. Gocławska 4, sala konferencyjna, II p.
SUMMARY:Książki graficzne pierwszym krokiem do samodzielnego czytania
DESCRIPTION:
END:VEVENT
END:VCALENDAR
