BEGIN:VCALENDAR
VERSION:2.0
PRODID:-//bonasoft.pl//NONSGML Co nowego w świecie AI? – webinar//EN
CALSCALE:GREGORIAN
METHOD:PUBLISH
BEGIN:VEVENT
UID:20260421T121150-1007810552uid
DISTAMP:20260421T121150
DTSTART:20251023T100000Z
DTEND:20251023T113000Z
LOCATION:online
SUMMARY:Co nowego w świecie AI? – webinar
DESCRIPTION:
END:VEVENT
END:VCALENDAR
