BEGIN:VCALENDAR
VERSION:2.0
PRODID:-//bonasoft.pl//NONSGML Jak się dogadać? Skuteczna komunikacja w życiu i pracy nauczyciela – Akademia Rozwoju Osobistego Nauczyciela (ARON) cz. 2//EN
CALSCALE:GREGORIAN
METHOD:PUBLISH
BEGIN:VEVENT
UID:20260421T121343-1806940731uid
DISTAMP:20260421T121343
DTSTART:20251028T090000Z
DTEND:20251028T130000Z
LOCATION:Pedagogiczna Biblioteka Wojewódzka im. KEN w Warszawie, ul. Gocławska 4, sala konferencyjna, II p.
SUMMARY:Jak się dogadać? Skuteczna komunikacja w życiu i pracy nauczyciela – Akademia Rozwoju Osobistego Nauczyciela (ARON) cz. 2
DESCRIPTION:
END:VEVENT
END:VCALENDAR
