BEGIN:VCALENDAR
VERSION:2.0
PRODID:-//bonasoft.pl//NONSGML Istota bycia nauczycielem w dobie Sztucznej Inteligencji. Powrót do źródeł – webinar//EN
CALSCALE:GREGORIAN
METHOD:PUBLISH
BEGIN:VEVENT
UID:20260421T121635-772829960uid
DISTAMP:20260421T121635
DTSTART:20251028T090000Z
DTEND:20251028T100000Z
LOCATION:online
SUMMARY:Istota bycia nauczycielem w dobie Sztucznej Inteligencji. Powrót do źródeł – webinar
DESCRIPTION:
END:VEVENT
END:VCALENDAR
