BEGIN:VCALENDAR
VERSION:2.0
PRODID:-//bonasoft.pl//NONSGML Asertywność w praktyce (cz.1): wyrażanie konstruktywnej krytyki – webinar//EN
CALSCALE:GREGORIAN
METHOD:PUBLISH
BEGIN:VEVENT
UID:20260421T121103-1062325039uid
DISTAMP:20260421T121103
DTSTART:20251103T090000Z
DTEND:20251103T110000Z
LOCATION:online
SUMMARY:Asertywność w praktyce (cz.1): wyrażanie konstruktywnej krytyki – webinar
DESCRIPTION:
END:VEVENT
END:VCALENDAR
