BEGIN:VCALENDAR
VERSION:2.0
PRODID:-//bonasoft.pl//NONSGML Wykorzystanie elementów czytania wrażeniowego w pracy z dzieckiem w wieku przedszkolnym//EN
CALSCALE:GREGORIAN
METHOD:PUBLISH
BEGIN:VEVENT
UID:20260421T135129-611776176uid
DISTAMP:20260421T135129
DTSTART:20251105T080000Z
DTEND:20251105T110000Z
LOCATION:Pedagogiczna Biblioteka Wojewódzka im. KEN w Warszawie, ul. Gocławska 4, sala konferencyjna, II p.
SUMMARY:Wykorzystanie elementów czytania wrażeniowego w pracy z dzieckiem w wieku przedszkolnym
DESCRIPTION:
END:VEVENT
END:VCALENDAR
