BEGIN:VCALENDAR
VERSION:2.0
PRODID:-//bonasoft.pl//NONSGML Opracowanie zbiorów specjalnych – dokumenty dźwiękowe//EN
CALSCALE:GREGORIAN
METHOD:PUBLISH
BEGIN:VEVENT
UID:20260421T134257-1154358506uid
DISTAMP:20260421T134257
DTSTART:20251113T110000Z
DTEND:20251113T130000Z
LOCATION:online
SUMMARY:Opracowanie zbiorów specjalnych – dokumenty dźwiękowe
DESCRIPTION:
END:VEVENT
END:VCALENDAR
