BEGIN:VCALENDAR
VERSION:2.0
PRODID:-//bonasoft.pl//NONSGML Hejt i przemoc „na niby” ranią naprawdę – warsztat biblioterapeutyczny dla nauczycieli na bazie publikacji Wydawnictwa NoBell//EN
CALSCALE:GREGORIAN
METHOD:PUBLISH
BEGIN:VEVENT
UID:20260421T135107-1001041640uid
DISTAMP:20260421T135107
DTSTART:20251114T100000Z
DTEND:20251114T130000Z
LOCATION:Pedagogiczna Biblioteka Wojewódzka im. KEN w Warszawie, ul. Gocławska 4, s. 212, I p.
SUMMARY:Hejt i przemoc „na niby” ranią naprawdę – warsztat biblioterapeutyczny dla nauczycieli na bazie publikacji Wydawnictwa NoBell
DESCRIPTION:
END:VEVENT
END:VCALENDAR
