BEGIN:VCALENDAR
VERSION:2.0
PRODID:-//bonasoft.pl//NONSGML Co mówią do nas zwierzęta – przegląd literatury biblioterapeutycznej//EN
CALSCALE:GREGORIAN
METHOD:PUBLISH
BEGIN:VEVENT
UID:20260421T121226-1096418123uid
DISTAMP:20260421T121226
DTSTART:20251121T090000Z
DTEND:20251121T130000Z
LOCATION:Pedagogiczna Biblioteka Wojewódzka im. KEN w Warszawie, ul. Gocławska 4, sala konferencyjna, II p.
SUMMARY:Co mówią do nas zwierzęta – przegląd literatury biblioterapeutycznej
DESCRIPTION:
END:VEVENT
END:VCALENDAR
