BEGIN:VCALENDAR
VERSION:2.0
PRODID:-//bonasoft.pl//NONSGML [ODWOŁANE] Matematyka dla przedszkolaka//EN
CALSCALE:GREGORIAN
METHOD:PUBLISH
BEGIN:VEVENT
UID:20260421T102456-755041161uid
DISTAMP:20260421T102456
DTSTART:20251125T080000Z
DTEND:20251125T100000Z
LOCATION:Pedagogiczna Biblioteka Wojewódzka im. KEN w Warszawie, ul. Gocławska 4, s. 212, I p.
SUMMARY:[ODWOŁANE] Matematyka dla przedszkolaka
DESCRIPTION:
END:VEVENT
END:VCALENDAR
