BEGIN:VCALENDAR
VERSION:2.0
PRODID:-//bonasoft.pl//NONSGML Przemijanie – najważniejsze pytania, najtrudniejsze pożegnania – warsztaty dla nauczycieli i seniorów//EN
CALSCALE:GREGORIAN
METHOD:PUBLISH
BEGIN:VEVENT
UID:20260421T102549-1698568865uid
DISTAMP:20260421T102549
DTSTART:20251124T090000Z
DTEND:20251124T130000Z
LOCATION:Pedagogiczna Biblioteka Wojewódzka im. KEN w Warszawie, ul. Gocławska 4, sala konferencyjna, II p.
SUMMARY:Przemijanie – najważniejsze pytania, najtrudniejsze pożegnania – warsztaty dla nauczycieli i seniorów
DESCRIPTION:
END:VEVENT
END:VCALENDAR
