BEGIN:VCALENDAR
VERSION:2.0
PRODID:-//bonasoft.pl//NONSGML Biblioteka Vintage – wykorzystanie książki historycznej  w promocji czytelnictwa//EN
CALSCALE:GREGORIAN
METHOD:PUBLISH
BEGIN:VEVENT
UID:20260421T114815-965649240uid
DISTAMP:20260421T114815
DTSTART:20251127T090000Z
DTEND:20251127T120000Z
LOCATION:Pedagogiczna Biblioteka Wojewódzka im. KEN w Warszawie, ul. Gocławska 4, sala konferencyjna, II p.
SUMMARY:Biblioteka Vintage – wykorzystanie książki historycznej  w promocji czytelnictwa
DESCRIPTION:
END:VEVENT
END:VCALENDAR
