BEGIN:VCALENDAR
VERSION:2.0
PRODID:-//bonasoft.pl//NONSGML Sieć współpracy i samokształcenia„Wielokulturowość w przedszkolu i w szkole”//EN
CALSCALE:GREGORIAN
METHOD:PUBLISH
BEGIN:VEVENT
UID:20260421T121510-1468202575uid
DISTAMP:20260421T121510
DTSTART:20251117T130000Z
DTEND:20251117T150000Z
LOCATION:online
SUMMARY:Sieć współpracy i samokształcenia„Wielokulturowość w przedszkolu i w szkole”
DESCRIPTION:
END:VEVENT
END:VCALENDAR
