BEGIN:VCALENDAR
VERSION:2.0
PRODID:-//bonasoft.pl//NONSGML Anioły w literaturze i innych tekstach kultury – webinar//EN
CALSCALE:GREGORIAN
METHOD:PUBLISH
BEGIN:VEVENT
UID:20260421T120255-1447696928uid
DISTAMP:20260421T120255
DTSTART:20251205T090000Z
DTEND:20251205T120000Z
LOCATION:on-line
SUMMARY:Anioły w literaturze i innych tekstach kultury – webinar
DESCRIPTION:
END:VEVENT
END:VCALENDAR
