BEGIN:VCALENDAR
VERSION:2.0
PRODID:-//bonasoft.pl//NONSGML Kreatywna książka w edukacji: Książka tunelowa//EN
CALSCALE:GREGORIAN
METHOD:PUBLISH
BEGIN:VEVENT
UID:20260421T102342-1903865580uid
DISTAMP:20260421T102342
DTSTART:20251211T080000Z
DTEND:20251211T110000Z
LOCATION:Pedagogiczna Biblioteka Wojewódzka im. KEN w Warszawie, ul. Gocławska 4, sala konferencyjna, II p.
SUMMARY:Kreatywna książka w edukacji: Książka tunelowa
DESCRIPTION:
END:VEVENT
END:VCALENDAR
