BEGIN:VCALENDAR
VERSION:2.0
PRODID:-//bonasoft.pl//NONSGML DBN dla zbiorów z różnych dziedzin – opracowanie literatury pięknej – webinar//EN
CALSCALE:GREGORIAN
METHOD:PUBLISH
BEGIN:VEVENT
UID:20260421T114845-1228018618uid
DISTAMP:20260421T114845
DTSTART:20251211T110000Z
DTEND:20251211T130000Z
LOCATION:online
SUMMARY:DBN dla zbiorów z różnych dziedzin – opracowanie literatury pięknej – webinar
DESCRIPTION:
END:VEVENT
END:VCALENDAR
