BEGIN:VCALENDAR
VERSION:2.0
PRODID:-//bonasoft.pl//NONSGML Emocje zapisane w książkach – webinar//EN
CALSCALE:GREGORIAN
METHOD:PUBLISH
BEGIN:VEVENT
UID:20260421T114727-1708147670uid
DISTAMP:20260421T114727
DTSTART:20260112T100000Z
DTEND:20260112T130000Z
LOCATION:on-line
SUMMARY:Emocje zapisane w książkach – webinar
DESCRIPTION:
END:VEVENT
END:VCALENDAR
