BEGIN:VCALENDAR
VERSION:2.0
PRODID:-//bonasoft.pl//NONSGML [ODWOŁANE] Z papieru w piksele: jak książki trafiają do sieci – digitalizacja zbiorów a projekt POLONA//EN
CALSCALE:GREGORIAN
METHOD:PUBLISH
BEGIN:VEVENT
UID:20260421T115828-1145532177uid
DISTAMP:20260421T115828
DTSTART:20260107T090000Z
DTEND:20260107T120000Z
LOCATION:online
SUMMARY:[ODWOŁANE] Z papieru w piksele: jak książki trafiają do sieci – digitalizacja zbiorów a projekt POLONA
DESCRIPTION:
END:VEVENT
END:VCALENDAR
