BEGIN:VCALENDAR
VERSION:2.0
PRODID:-//bonasoft.pl//NONSGML Opracowanie formalne – nowa metodyka Biblioteki Narodowej//EN
CALSCALE:GREGORIAN
METHOD:PUBLISH
BEGIN:VEVENT
UID:20260421T102409-174747349uid
DISTAMP:20260421T102409
DTSTART:20260115T110000Z
DTEND:20260115T130000Z
LOCATION:online
SUMMARY:Opracowanie formalne – nowa metodyka Biblioteki Narodowej
DESCRIPTION:
END:VEVENT
END:VCALENDAR
