BEGIN:VCALENDAR
VERSION:2.0
PRODID:-//bonasoft.pl//NONSGML Uczucia w filmie i literaturze – webinar//EN
CALSCALE:GREGORIAN
METHOD:PUBLISH
BEGIN:VEVENT
UID:20260421T114728-1580321931uid
DISTAMP:20260421T114728
DTSTART:20260206T090000Z
DTEND:20260206T120000Z
LOCATION:on-line
SUMMARY:Uczucia w filmie i literaturze – webinar
DESCRIPTION:
END:VEVENT
END:VCALENDAR
