BEGIN:VCALENDAR
VERSION:2.0
PRODID:-//bonasoft.pl//NONSGML Co czytają nastolatki? Przegląd literatury young adults//EN
CALSCALE:GREGORIAN
METHOD:PUBLISH
BEGIN:VEVENT
UID:20260421T114809-1515169083uid
DISTAMP:20260421T114809
DTSTART:20260212T090000Z
DTEND:20260212T110000Z
LOCATION:online
SUMMARY:Co czytają nastolatki? Przegląd literatury young adults
DESCRIPTION:
END:VEVENT
END:VCALENDAR
