BEGIN:VCALENDAR
VERSION:2.0
PRODID:-//bonasoft.pl//NONSGML Emocje zapisane w książkach – webinar (2 termin)//EN
CALSCALE:GREGORIAN
METHOD:PUBLISH
BEGIN:VEVENT
UID:20260421T114815-878675266uid
DISTAMP:20260421T114815
DTSTART:20260119T100000Z
DTEND:20260119T130000Z
LOCATION:online
SUMMARY:Emocje zapisane w książkach – webinar (2 termin)
DESCRIPTION:
END:VEVENT
END:VCALENDAR
