BEGIN:VCALENDAR
VERSION:2.0
PRODID:-//bonasoft.pl//NONSGML MARC21: podstawy – webinar//EN
CALSCALE:GREGORIAN
METHOD:PUBLISH
BEGIN:VEVENT
UID:20260421T102548-167437235uid
DISTAMP:20260421T102548
DTSTART:20260122T110000Z
DTEND:20260122T130000Z
LOCATION:online
SUMMARY:MARC21: podstawy – webinar
DESCRIPTION:
END:VEVENT
END:VCALENDAR
