BEGIN:VCALENDAR
VERSION:2.0
PRODID:-//bonasoft.pl//NONSGML Mój przyjaciel migrant – webinar//EN
CALSCALE:GREGORIAN
METHOD:PUBLISH
BEGIN:VEVENT
UID:20260420T090123-1555932667uid
DISTAMP:20260420T090123
DTSTART:20260305T110000Z
DTEND:20260305T130000Z
LOCATION:on-line
SUMMARY:Mój przyjaciel migrant – webinar
DESCRIPTION:
END:VEVENT
END:VCALENDAR
