BEGIN:VCALENDAR
VERSION:2.0
PRODID:-//bonasoft.pl//NONSGML Wordwall krok po kroku – webinar//EN
CALSCALE:GREGORIAN
METHOD:PUBLISH
BEGIN:VEVENT
UID:20260419T131127-1536549365uid
DISTAMP:20260419T131127
DTSTART:20260313T090000Z
DTEND:20260313T103000Z
LOCATION:on-line
SUMMARY:Wordwall krok po kroku – webinar
DESCRIPTION:
END:VEVENT
END:VCALENDAR
