BEGIN:VCALENDAR
VERSION:2.0
PRODID:-//bonasoft.pl//NONSGML Jak dbać o zbiory biblioteczne? Zabezpieczenie – ochrona – konserwacja//EN
CALSCALE:GREGORIAN
METHOD:PUBLISH
BEGIN:VEVENT
UID:20260421T091723-769890162uid
DISTAMP:20260421T091723
DTSTART:20260326T090000Z
DTEND:20260326T130000Z
LOCATION:Pedagogiczna Biblioteka Wojewódzka im. KEN w Warszawie, sala 212 I p.
SUMMARY:Jak dbać o zbiory biblioteczne? Zabezpieczenie – ochrona – konserwacja
DESCRIPTION:
END:VEVENT
END:VCALENDAR
