BEGIN:VCALENDAR
VERSION:2.0
PRODID:-//bonasoft.pl//NONSGML Opracowanie zbiorów specjalnych – filmy – webinar//EN
CALSCALE:GREGORIAN
METHOD:PUBLISH
BEGIN:VEVENT
UID:20260421T085314-978728528uid
DISTAMP:20260421T085314
DTSTART:20260326T110000Z
DTEND:20260326T130000Z
LOCATION:on-line
SUMMARY:Opracowanie zbiorów specjalnych – filmy – webinar
DESCRIPTION:
END:VEVENT
END:VCALENDAR
