BEGIN:VCALENDAR
VERSION:2.0
PRODID:-//bonasoft.pl//NONSGML Lumio: jedna lekcja, wiele ścieżek uczenia się – webinar//EN
CALSCALE:GREGORIAN
METHOD:PUBLISH
BEGIN:VEVENT
UID:20260421T090913-1758732143uid
DISTAMP:20260421T090913
DTSTART:20260319T090000Z
DTEND:20260319T103000Z
LOCATION:on-line
SUMMARY:Lumio: jedna lekcja, wiele ścieżek uczenia się – webinar
DESCRIPTION:
END:VEVENT
END:VCALENDAR
