BEGIN:VCALENDAR
VERSION:2.0
PRODID:-//bonasoft.pl//NONSGML Szczęście jest w nas, czyli o budowaniu odporności psychicznej dzieci dzięki książkom. Spotkanie z Roksaną Jędrzejewską-Wróbel, autorką serii „Siedem szczęśliwych. Baśnie nie dość znane”//EN
CALSCALE:GREGORIAN
METHOD:PUBLISH
BEGIN:VEVENT
UID:20260421T085252-1488110960uid
DISTAMP:20260421T085252
DTSTART:20260310T110000Z
DTEND:20260310T130000Z
LOCATION:online
SUMMARY:Szczęście jest w nas, czyli o budowaniu odporności psychicznej dzieci dzięki książkom. Spotkanie z Roksaną Jędrzejewską-Wróbel, autorką serii „Siedem szczęśliwych. Baśnie nie dość znane”
DESCRIPTION:
END:VEVENT
END:VCALENDAR
