BEGIN:VCALENDAR
VERSION:2.0
PRODID:-//bonasoft.pl//NONSGML Bohaterowie literaccy ze spektrum autyzmu//EN
CALSCALE:GREGORIAN
METHOD:PUBLISH
BEGIN:VEVENT
UID:20260424T104142-302586346uid
DISTAMP:20260424T104142
DTSTART:20260415T080000Z
DTEND:20260415T110000Z
LOCATION:Pedagogiczna Biblioteka Wojewódzka im. KEN, ul. Gocławska 4, sala konferencyjna, II p.
SUMMARY:Bohaterowie literaccy ze spektrum autyzmu
DESCRIPTION:
END:VEVENT
END:VCALENDAR
