BEGIN:VCALENDAR
VERSION:2.0
PRODID:-//bonasoft.pl//NONSGML Prawo autorskie w bibliotece//EN
CALSCALE:GREGORIAN
METHOD:PUBLISH
BEGIN:VEVENT
UID:20260424T104540-550633126uid
DISTAMP:20260424T104540
DTSTART:20260414T100000Z
DTEND:20260414T120000Z
LOCATION:Pedagogiczna Biblioteka Wojewódzka im. KEN, ul. Gocławska 4, sala 212, I p.
SUMMARY:Prawo autorskie w bibliotece
DESCRIPTION:
END:VEVENT
END:VCALENDAR
