BEGIN:VCALENDAR
VERSION:2.0
PRODID:-//bonasoft.pl//NONSGML Z ekologią za pan brat//EN
CALSCALE:GREGORIAN
METHOD:PUBLISH
BEGIN:VEVENT
UID:20260424T103059-128819115uid
DISTAMP:20260424T103059
DTSTART:20260416T080000Z
DTEND:20260416T110000Z
LOCATION:Pedagogiczna Biblioteka Wojewódzka im. KEN, ul. Gocławska 4, sala konferencyjna, II p.
SUMMARY:Z ekologią za pan brat
DESCRIPTION:
END:VEVENT
END:VCALENDAR
