BEGIN:VCALENDAR
VERSION:2.0
PRODID:-//bonasoft.pl//NONSGML Musicon-w edukacji bez ekranów//EN
CALSCALE:GREGORIAN
METHOD:PUBLISH
BEGIN:VEVENT
UID:20260424T094842-2013530173uid
DISTAMP:20260424T094842
DTSTART:20260520T110000Z
DTEND:20260520T130000Z
LOCATION:Pedagogiczna Biblioteka Wojewódzka im. KEN w Warszawie,sala konferencyjna nr 320, II p.
SUMMARY:Musicon-w edukacji bez ekranów
DESCRIPTION:
END:VEVENT
END:VCALENDAR
