BEGIN:VCALENDAR
VERSION:2.0
PRODID:-//bonasoft.pl//NONSGML Moc biografii. O uczeniu się z historii życia – webinar//EN
CALSCALE:GREGORIAN
METHOD:PUBLISH
BEGIN:VEVENT
UID:20260424T095439-914400479uid
DISTAMP:20260424T095439
DTSTART:20260512T080000Z
DTEND:20260512T093000Z
LOCATION:online
SUMMARY:Moc biografii. O uczeniu się z historii życia – webinar
DESCRIPTION:
END:VEVENT
END:VCALENDAR
