BEGIN:VCALENDAR
VERSION:2.0
PRODID:-//bonasoft.pl//NONSGML Spotkanie z dr. ks. Arturem Aleksiejukiem//EN
CALSCALE:GREGORIAN
METHOD:PUBLISH
BEGIN:VEVENT
UID:20260422T040106-1439714833uid
DISTAMP:20260422T040106
DTSTART:20240112T090000Z
DTEND:20240112T110000Z
LOCATION:sala konferencyjna, II p.
SUMMARY:Spotkanie z dr. ks. Arturem Aleksiejukiem
DESCRIPTION:Prośba o podanie łącznej liczby uczestników (liczba opiekunów + uczniów)
END:VEVENT
END:VCALENDAR
