BEGIN:VCALENDAR
VERSION:2.0
PRODID:-//bonasoft.pl//NONSGML „Filozofowanie działaniem twórczym. Jak wzmacniać kreatywność dzięki dociekaniom filozoficznym”//EN
CALSCALE:GREGORIAN
METHOD:PUBLISH
BEGIN:VEVENT
UID:20260422T041030-1275378744uid
DISTAMP:20260422T041030
DTSTART:20231204T100000Z
DTEND:20231204T120000Z
LOCATION:Webinar
SUMMARY:„Filozofowanie działaniem twórczym. Jak wzmacniać kreatywność dzięki dociekaniom filozoficznym”
DESCRIPTION:Webinar bezpłatny. Liczba miejsc ograniczona.
END:VEVENT
END:VCALENDAR
