BEGIN:VCALENDAR
VERSION:2.0
PRODID:-//bonasoft.pl//NONSGML Opracowanie dokumentów pisanych cyrylicą//EN
CALSCALE:GREGORIAN
METHOD:PUBLISH
BEGIN:VEVENT
UID:20260422T035356-1501240907uid
DISTAMP:20260422T035356
DTSTART:20231207T110000Z
DTEND:20231207T130000Z
LOCATION:Webinar
SUMMARY:Opracowanie dokumentów pisanych cyrylicą
DESCRIPTION:Szkolenie bezpłatne.
END:VEVENT
END:VCALENDAR
