BEGIN:VCALENDAR
VERSION:2.0
PRODID:-//bonasoft.pl//NONSGML Tworzenie grafik w aplikacji Canva//EN
CALSCALE:GREGORIAN
METHOD:PUBLISH
BEGIN:VEVENT
UID:20260422T024932-2017504177uid
DISTAMP:20260422T024932
DTSTART:20240207T090000Z
DTEND:20240207T120000Z
LOCATION:Pedagogiczna Biblioteka Wojewódzka im. KEN w Warszawie, ul. Gocławska 4, sala nr 213, I p.
SUMMARY:Tworzenie grafik w aplikacji Canva
DESCRIPTION:Zapraszamy na bezpłatne warsztaty stacjonarne.
END:VEVENT
END:VCALENDAR
