BEGIN:VCALENDAR
VERSION:2.0
PRODID:-//bonasoft.pl//NONSGML Przedszkolaki w cyfrowym świecie//EN
CALSCALE:GREGORIAN
METHOD:PUBLISH
BEGIN:VEVENT
UID:20260422T025029-854393091uid
DISTAMP:20260422T025029
DTSTART:20240213T120000Z
DTEND:20240213T140000Z
LOCATION:online
SUMMARY:Przedszkolaki w cyfrowym świecie
DESCRIPTION:Zapraszamy na bezpłatny webinar.
END:VEVENT
END:VCALENDAR
