BEGIN:VCALENDAR
VERSION:2.0
PRODID:-//bonasoft.pl//NONSGML Pokój zagadek w klasie szkolnej//EN
CALSCALE:GREGORIAN
METHOD:PUBLISH
BEGIN:VEVENT
UID:20260422T025240-680632186uid
DISTAMP:20260422T025240
DTSTART:20240214T230000Z
DTEND:20240215T130000Z
LOCATION:online
SUMMARY:Pokój zagadek w klasie szkolnej
DESCRIPTION:Zapraszamy na bezpłatny webinar.
END:VEVENT
END:VCALENDAR
