BEGIN:VCALENDAR
VERSION:2.0
PRODID:-//bonasoft.pl//NONSGML Asertywne przyjmowanie krytyki//EN
CALSCALE:GREGORIAN
METHOD:PUBLISH
BEGIN:VEVENT
UID:20260422T022111-673199599uid
DISTAMP:20260422T022111
DTSTART:20240315T090000Z
DTEND:20240315T110000Z
LOCATION:online
SUMMARY:Asertywne przyjmowanie krytyki
DESCRIPTION:Zapraszamy na darmowy webinar.
END:VEVENT
END:VCALENDAR
