BEGIN:VCALENDAR
VERSION:2.0
PRODID:-//bonasoft.pl//NONSGML O szczęściu czule i bez znieczulenia – motyw samorealizacji i szczęścia w literaturze dla dzieci i młodzieży//EN
CALSCALE:GREGORIAN
METHOD:PUBLISH
BEGIN:VEVENT
UID:20260422T010406-1454748038uid
DISTAMP:20260422T010406
DTSTART:20240327T090000Z
DTEND:20240327T130000Z
LOCATION:Pedagogiczna Biblioteka Wojewódzka im. KEN w Warszawie, ul. Gocławska 4, sala nr 212, I p.
SUMMARY:O szczęściu czule i bez znieczulenia – motyw samorealizacji i szczęścia w literaturze dla dzieci i młodzieży
DESCRIPTION:Zapraszamy na szkolenie stacjonarne.
END:VEVENT
END:VCALENDAR
